BEGIN:VCALENDAR
VERSION:2.0
PRODID:-//Cathy Germain - ECPv6.15.11//NONSGML v1.0//EN
CALSCALE:GREGORIAN
METHOD:PUBLISH
X-WR-CALNAME:Cathy Germain
X-ORIGINAL-URL:https://www.cathygermain.fr
X-WR-CALDESC:Évènements pour Cathy Germain
REFRESH-INTERVAL;VALUE=DURATION:PT1H
X-Robots-Tag:noindex
X-PUBLISHED-TTL:PT1H
BEGIN:VTIMEZONE
TZID:Europe/Paris
BEGIN:DAYLIGHT
TZOFFSETFROM:+0100
TZOFFSETTO:+0200
TZNAME:CEST
DTSTART:20230326T010000
END:DAYLIGHT
BEGIN:STANDARD
TZOFFSETFROM:+0200
TZOFFSETTO:+0100
TZNAME:CET
DTSTART:20231029T010000
END:STANDARD
BEGIN:DAYLIGHT
TZOFFSETFROM:+0100
TZOFFSETTO:+0200
TZNAME:CEST
DTSTART:20240331T010000
END:DAYLIGHT
BEGIN:STANDARD
TZOFFSETFROM:+0200
TZOFFSETTO:+0100
TZNAME:CET
DTSTART:20241027T010000
END:STANDARD
BEGIN:DAYLIGHT
TZOFFSETFROM:+0100
TZOFFSETTO:+0200
TZNAME:CEST
DTSTART:20250330T010000
END:DAYLIGHT
BEGIN:STANDARD
TZOFFSETFROM:+0200
TZOFFSETTO:+0100
TZNAME:CET
DTSTART:20251026T010000
END:STANDARD
BEGIN:DAYLIGHT
TZOFFSETFROM:+0100
TZOFFSETTO:+0200
TZNAME:CEST
DTSTART:20260329T010000
END:DAYLIGHT
BEGIN:STANDARD
TZOFFSETFROM:+0200
TZOFFSETTO:+0100
TZNAME:CET
DTSTART:20261025T010000
END:STANDARD
END:VTIMEZONE
BEGIN:VEVENT
DTSTART;VALUE=DATE:20251210
DTEND;VALUE=DATE:20251213
DTSTAMP:20260421T164003
CREATED:20251103T171811Z
LAST-MODIFIED:20251103T171811Z
UID:882-1765324800-1765583999@www.cathygermain.fr
SUMMARY:Congrès Français de Psychiatrie
DESCRIPTION:
URL:https://www.cathygermain.fr/event/congres-francais-de-psychiatrie/
LOCATION:Palais des Festivals Cannes\, 1 Bd de la Croisette\, Cannes\, 06400
ATTACH;FMTTYPE=image/png:https://www.cathygermain.fr/wp-content/uploads/2025/11/Congres-cannes.png
END:VEVENT
BEGIN:VEVENT
DTSTART;VALUE=DATE:20251127
DTEND;VALUE=DATE:20251128
DTSTAMP:20260421T164003
CREATED:20251103T172308Z
LAST-MODIFIED:20251125T174727Z
UID:888-1764201600-1764287999@www.cathygermain.fr
SUMMARY:Forum Rétablissement en santé mentale
DESCRIPTION:Téléchargez le programme complet : \nhttps://www.forum-retablissement-sante-mentale.fr/wp-content/uploads/2025/11/programme_Forum_Retablissement_2025_v15_11_25.pdf \n 
URL:https://www.cathygermain.fr/event/forum-retablissement-en-sante-mentale/
LOCATION:Cité des Sciences et de l’Industrie\, 30 Av. Corentin Cariou\, Paris\, 75019
CATEGORIES:Conférence
ATTACH;FMTTYPE=image/jpeg:https://www.cathygermain.fr/wp-content/uploads/2025/11/ForumRetablissement.jpeg
END:VEVENT
BEGIN:VEVENT
DTSTART;VALUE=DATE:20251121
DTEND;VALUE=DATE:20251122
DTSTAMP:20260421T164003
CREATED:20251103T171220Z
LAST-MODIFIED:20251103T173050Z
UID:878-1763683200-1763769599@www.cathygermain.fr
SUMMARY:Intervention Handi-Formation Montpellier
DESCRIPTION:Programme prévisionnel de la journée\n\n9h30 : Signature de la convention et présentation du Dispositif Formation Accompagnée (DFA)\nM. Gérard Mamou\, Responsable des relations partenariales et institutionnelles\, CRIP – UGECAM\n10h00 : Intervention de la Clinique Saint-Martin du Vignogoul\nDr Virgile Magnin-Feysot (titre à confirmer)\n11h00 : Pause\n11h30 : Présentation de l’Agence Régionale de Santé (ARS)\nSimon Barberio et Margaux Pipet\n12h00 : Repas (plateau-repas offert par l’université)\n13h45 : Vivre avec un trouble borderline : de la compréhension à l’épanouissement\nDéborah Ducasse\, CHU de Montpellier (à confirmer)\n14h30 : Présentation du projet PCPE troubles psychiques\nPatrick Mardille-Vidal\, Directeur Institut Nazareth (ITEP)\n15h00 : Pause\n15h30 : Témoignage\, Cathy Germain\, (La petite fille au sourire figé)
URL:https://www.cathygermain.fr/event/intervention-handi-formation-montpellier/
LOCATION:Université Paul Valéry-Montpellier\, Av. Saint-Charles\, Montpellier\, 34090
CATEGORIES:Conférence
END:VEVENT
BEGIN:VEVENT
DTSTART;TZID=Europe/Paris:20251117T080000
DTEND;TZID=Europe/Paris:20251117T170000
DTSTAMP:20260421T164003
CREATED:20251103T170550Z
LAST-MODIFIED:20251110T135641Z
UID:873-1763366400-1763398800@www.cathygermain.fr
SUMMARY:Intervention CHU Mulhouse
DESCRIPTION:
URL:https://www.cathygermain.fr/event/intervention-chu-mulhouse/
LOCATION:Ghrmsa – Hôpital Emile Muller\, 20 Avenue du Dr René Laennec\,\, Mulhouse\, 68100
CATEGORIES:Conférence
ATTACH;FMTTYPE=image/png:https://www.cathygermain.fr/wp-content/uploads/2025/11/Semaine-europeenne-pour-lemploi.png
END:VEVENT
BEGIN:VEVENT
DTSTART;TZID=Europe/Paris:20250913T100000
DTEND;TZID=Europe/Paris:20250913T180000
DTSTAMP:20260421T164003
CREATED:20250617T132417Z
LAST-MODIFIED:20250904T055554Z
UID:839-1757757600-1757786400@www.cathygermain.fr
SUMMARY:Dédicaces à Super U Mazé
DESCRIPTION:
URL:https://www.cathygermain.fr/event/dedicaces-a-super-u-maze/
LOCATION:Super U Mazé\, 27 Chemin de la Macheferrière\, Mazé-Milon\, 49630
CATEGORIES:Dédicace
ATTACH;FMTTYPE=image/jpeg:https://www.cathygermain.fr/wp-content/uploads/2025/06/Dedicace-Super-U-Maze-septembre.jpg
END:VEVENT
BEGIN:VEVENT
DTSTART;TZID=Europe/Paris:20250613T093000
DTEND;TZID=Europe/Paris:20250613T120000
DTSTAMP:20260421T164003
CREATED:20250617T133312Z
LAST-MODIFIED:20250617T133312Z
UID:845-1749807000-1749816000@www.cathygermain.fr
SUMMARY:Atelier d'écriture
DESCRIPTION:
URL:https://www.cathygermain.fr/event/atelier-decriture/
ATTACH;FMTTYPE=image/jpeg:https://www.cathygermain.fr/wp-content/uploads/2025/06/Atelier-ecriture.jpg
END:VEVENT
BEGIN:VEVENT
DTSTART;TZID=Europe/Paris:20250426T100000
DTEND;TZID=Europe/Paris:20250426T180000
DTSTAMP:20260421T164003
CREATED:20250127T101803Z
LAST-MODIFIED:20250420T092028Z
UID:651-1745661600-1745690400@www.cathygermain.fr
SUMMARY:Plume d'Anjou - Espace Culturel E.Leclerc Angers (49)
DESCRIPTION:
URL:https://www.cathygermain.fr/event/plume-danjou/
LOCATION:Espace Culturel E.Leclerc\, Bd Albert Camus\, Angers\, 49100\, France
CATEGORIES:Dédicace
ATTACH;FMTTYPE=image/png:https://www.cathygermain.fr/wp-content/uploads/2025/01/Plume-dAnjou.png
END:VEVENT
BEGIN:VEVENT
DTSTART;TZID=Europe/Paris:20250318T090000
DTEND;TZID=Europe/Paris:20250318T170000
DTSTAMP:20260421T164003
CREATED:20250127T102144Z
LAST-MODIFIED:20250127T102649Z
UID:654-1742288400-1742317200@www.cathygermain.fr
SUMMARY:Journée de la réhab' 2025 - Rouffach (68)
DESCRIPTION:
URL:https://www.cathygermain.fr/event/journee-de-la-rehab-2025-rouffach-68/
LOCATION:Centre Hospitalier Rouffach\, 27 Rue du 4ème Spahis Marocains\, Rouffach\, 68250\, France
CATEGORIES:Salon
ATTACH;FMTTYPE=image/jpeg:https://www.cathygermain.fr/wp-content/uploads/2025/01/JRPS2025_Haut-Rhin.jpg
END:VEVENT
BEGIN:VEVENT
DTSTART;TZID=Europe/Paris:20250315T100000
DTEND;TZID=Europe/Paris:20250315T180000
DTSTAMP:20260421T164003
CREATED:20250302T101434Z
LAST-MODIFIED:20250304T164036Z
UID:734-1742032800-1742061600@www.cathygermain.fr
SUMMARY:Dédicaces à Hyper U Mûrs-Erigné
DESCRIPTION:
URL:https://www.cathygermain.fr/event/dedicasses-a-hyper-u-murs-erigne/
LOCATION:Hyper U Mûrs-Erigné\, Centre Commercial Rive Sud\, 26 Rue Valentin des Ormeaux\, Mûrs-Erigné\, 49610
CATEGORIES:Dédicace
ATTACH;FMTTYPE=image/jpeg:https://www.cathygermain.fr/wp-content/uploads/2025/03/Dedicace-Hyper-U.jpg
END:VEVENT
BEGIN:VEVENT
DTSTART;TZID=Europe/Paris:20250125T100000
DTEND;TZID=Europe/Paris:20250125T100000
DTSTAMP:20260421T164003
CREATED:20241018T121845Z
LAST-MODIFIED:20241018T124749Z
UID:426-1737799200-1737799200@www.cathygermain.fr
SUMMARY:Dédicaces au Cultura de Cholet (49)
DESCRIPTION:
URL:https://www.cathygermain.fr/event/dedicaces-au-cultura-a-cholet-49/
LOCATION:Cultura\, ZAC De L'Ecuyère\, Cholet\, 49300\, France
CATEGORIES:Dédicace
ATTACH;FMTTYPE=image/jpeg:https://www.cathygermain.fr/wp-content/uploads/2024/10/CulturaCholet-affiche-WEB300px-.jpg
END:VEVENT
BEGIN:VEVENT
DTSTART;TZID=Europe/Paris:20241221T100000
DTEND;TZID=Europe/Paris:20241221T180000
DTSTAMP:20260421T164003
CREATED:20241025T144716Z
LAST-MODIFIED:20241218T121120Z
UID:477-1734775200-1734804000@www.cathygermain.fr
SUMMARY:Dédicaces à l'Espace Culturel E.Leclerc Angers (49)
DESCRIPTION:
URL:https://www.cathygermain.fr/event/dedicaces-a-lespace-culturel-e-leclerc-angers-49/
LOCATION:Espace Culturel E.Leclerc\, Bd Albert Camus\, Angers\, 49100\, France
CATEGORIES:Dédicace
ATTACH;FMTTYPE=image/jpeg:https://www.cathygermain.fr/wp-content/uploads/2024/10/Dedicace-visuel-Leclerc.jpeg
END:VEVENT
BEGIN:VEVENT
DTSTART;TZID=Europe/Paris:20241214T140000
DTEND;TZID=Europe/Paris:20241214T180000
DTSTAMP:20260421T164003
CREATED:20241203T131355Z
LAST-MODIFIED:20241212T102532Z
UID:609-1734184800-1734199200@www.cathygermain.fr
SUMMARY:1ère édition Forum "Écri(pas)vain" - La Maison Perchée - Paris 11
DESCRIPTION:Un forum maison rassemblant les personnes qui ont osé coucher sur le papier leur histoire\, une synthèse de leurs recherches\, un récit de leur expérience ou encore le fil de leur réflexion. Il était important pour nous de valoriser ce travail\, venez nombreux⸱ses !
URL:https://www.cathygermain.fr/event/1ere-edition-forum-ecripasvain-la-maison-perchee-paris-11/
LOCATION:La Maison Perchée\, 59 avenue de La République\, Paris\, 75011\, France
ATTACH;FMTTYPE=image/jpeg:https://www.cathygermain.fr/wp-content/uploads/2024/12/Visuel-ecripavain-1.jpg
END:VEVENT
BEGIN:VEVENT
DTSTART;TZID=Europe/Paris:20241205T190000
DTEND;TZID=Europe/Paris:20241205T193000
DTSTAMP:20260421T164003
CREATED:20241202T094610Z
LAST-MODIFIED:20241202T095535Z
UID:601-1733425200-1733427000@www.cathygermain.fr
SUMMARY:Ça se passe ici - JT 19/20 France 3 Pays de la Loire
DESCRIPTION:Retrouvez-moi dans l’émission « Ça se passe ici » à 19h05 sur France 3 Pays de la Loire. \n– Orange / Sosh  : canal 320 \n– Free : canal 321 \n– Bouygues Telecom : canal 489 \n– SFR : canal 450
URL:https://www.cathygermain.fr/event/ca-se-passe-ici-jt-19-20-france-3-pays-de-la-loire/
CATEGORIES:Presse
ATTACH;FMTTYPE=image/png:https://www.cathygermain.fr/wp-content/uploads/2024/12/logo-France3-PDLL.png
END:VEVENT
BEGIN:VEVENT
DTSTART;TZID=Europe/Paris:20241203T200000
DTEND;TZID=Europe/Paris:20241203T210000
DTSTAMP:20260421T164003
CREATED:20241126T171845Z
LAST-MODIFIED:20241126T173124Z
UID:574-1733256000-1733259600@www.cathygermain.fr
SUMMARY:Calendrier de l'Avent SURDOUESSENCE 2024
DESCRIPTION:Retrouvez-moi en live sur YouTube ! \n﻿
URL:https://www.cathygermain.fr/event/calendrier-de-lavent-surdouessence-2024/
CATEGORIES:Live Youtube
ATTACH;FMTTYPE=image/png:https://www.cathygermain.fr/wp-content/uploads/2024/11/Live-Youtube-3-12-2024-mini.png
END:VEVENT
BEGIN:VEVENT
DTSTART;TZID=Europe/Paris:20241201T100000
DTEND;TZID=Europe/Paris:20241201T180000
DTSTAMP:20260421T164003
CREATED:20241018T114131Z
LAST-MODIFIED:20241117T101936Z
UID:417-1733047200-1733076000@www.cathygermain.fr
SUMMARY:3ème Salon du livre de Brionne (27) - Annulé
DESCRIPTION:
URL:https://www.cathygermain.fr/event/salon/
LOCATION:Salle des fêtes de Brionne\, 2A Rue du Maréchal Leclerc\, Brionne\, 27800\, France
CATEGORIES:Salon
ATTACH;FMTTYPE=image/jpeg:https://www.cathygermain.fr/wp-content/uploads/2024/11/salon-brionne-web400px_annule.jpg
END:VEVENT
END:VCALENDAR